BEGIN:VCALENDAR
VERSION:2.0
PRODID:-//Seniorenrat Althengstett - ECPv6.15.20//NONSGML v1.0//EN
CALSCALE:GREGORIAN
METHOD:PUBLISH
X-WR-CALNAME:Seniorenrat Althengstett
X-ORIGINAL-URL:https://seniorenrat-althengstett.de
X-WR-CALDESC:Veranstaltungen für Seniorenrat Althengstett
REFRESH-INTERVAL;VALUE=DURATION:PT1H
X-Robots-Tag:noindex
X-PUBLISHED-TTL:PT1H
BEGIN:VTIMEZONE
TZID:UTC
BEGIN:STANDARD
TZOFFSETFROM:+0000
TZOFFSETTO:+0000
TZNAME:UTC
DTSTART:20230101T000000
END:STANDARD
END:VTIMEZONE
BEGIN:VEVENT
DTSTART;TZID=UTC:20241019T090000
DTEND;TZID=UTC:20241019T120000
DTSTAMP:20260422T222824
CREATED:20240509T123143Z
LAST-MODIFIED:20240509T123231Z
UID:9275-1729328400-1729339200@seniorenrat-althengstett.de
SUMMARY:Warenausgabe Gebrauchtwarenbörse
DESCRIPTION:Gebrauchtwarenbörse\,\nWarenausgabe von 9.00 – 12.00 Uhr
URL:https://seniorenrat-althengstett.de/event/warenausgabe-gebrauchtwarenboerse/
CATEGORIES:Gebrauchtwarenbörse
ATTACH;FMTTYPE=image/jpeg:https://seniorenrat-althengstett.de/wp-content/uploads/2023/02/Gebrauchtwarenboerse-2024_2-scaled.jpg
END:VEVENT
END:VCALENDAR